BEGIN:VCALENDAR
VERSION:2.0
PRODID:-//Varsinais-Suomen hevosjalostusliitto - ECPv5.1.2//NONSGML v1.0//EN
CALSCALE:GREGORIAN
METHOD:PUBLISH
X-WR-CALNAME:Varsinais-Suomen hevosjalostusliitto
X-ORIGINAL-URL:https://hevosjalostusliitot.fi/varsinaissuomi
X-WR-CALDESC:Events for Varsinais-Suomen hevosjalostusliitto
BEGIN:VTIMEZONE
TZID:UTC
BEGIN:STANDARD
TZOFFSETFROM:+0000
TZOFFSETTO:+0000
TZNAME:UTC
DTSTART:20250101T000000
END:STANDARD
END:VTIMEZONE
BEGIN:VEVENT
DTSTART;TZID=UTC:20250429T190000
DTEND;TZID=UTC:20250429T203000
DTSTAMP:20260422T101527
CREATED:20250120T125458Z
LAST-MODIFIED:20250120T125523Z
UID:938-1745953200-1745958600@hevosjalostusliitot.fi
SUMMARY:Ruokinnan webinaarisarja\, osa 4 Alkuperäisrotuisten hevosten ruokinta
DESCRIPTION:\n\n\n\n\n\n\nTämän neliosaisen webinaarisarjan aiheet käsittelevät sellaisten hevosryhmien ruokintaa\, joka koetaan usein haasteelliseksi. \n\n\n\nNeljännen osan aiheena on alkuperäisrotuisten hevosten ruokinta\, jotka ovat usein rehunkäyttökyvyltään tehokkaita ja helposti lihovia. Tähän ryhmään kuuluvat esimerkiksi kylmäveri- ja ponirodut\, islanninhevoset\, lännenhevoset sekä myös osa puoliverihevosista. Mitkä ovat alkuperäisrotuisten hevosten yleisimmät ruokintahaasteet? Mitä alkuperäisrotuisten hevosten ruokinnassa tulee huomioida\, jotta ne pysyisivät sopivassa lihavuuskunnossa eivätkä altistuisi samalla puutostiloille? Millaisia niiden rehujen tulee olla ja mitä laidunkauden ruokinnassa tulee huomioida? Näihin kysymyksiin saat vastauksen webinaarissa.  \n\n\n\nVoit myös esittää luennoitsijalle ennakkokysymyksen tästä \n\n\n\nEnnakkoilmoittaudu tämän sivuston Rekisteröidy-napista! \n\n\n\nWebinaarisarjan järjestävät yhteistyössä  \n\n\n\nSuomen alueelliset hevosjalostusliitot ja St. Hippolyt Finland. \n\n\n\n\n\n\n\n\n\n\n
URL:https://hevosjalostusliitot.fi/varsinaissuomi/kalenteri/ruokinnan-webinaarisarja-osa-4-alkuperaisrotuisten-hevosten-ruokinta/
END:VEVENT
END:VCALENDAR