BEGIN:VCALENDAR
VERSION:2.0
PRODID:-//Varsinais-Suomen hevosjalostusliitto - ECPv5.1.2//NONSGML v1.0//EN
CALSCALE:GREGORIAN
METHOD:PUBLISH
X-WR-CALNAME:Varsinais-Suomen hevosjalostusliitto
X-ORIGINAL-URL:https://hevosjalostusliitot.fi/varsinaissuomi
X-WR-CALDESC:Events for Varsinais-Suomen hevosjalostusliitto
BEGIN:VTIMEZONE
TZID:UTC
BEGIN:STANDARD
TZOFFSETFROM:+0000
TZOFFSETTO:+0000
TZNAME:UTC
DTSTART:20250101T000000
END:STANDARD
END:VTIMEZONE
BEGIN:VEVENT
DTSTART;TZID=UTC:20250516T083000
DTEND;TZID=UTC:20250516T123000
DTSTAMP:20260422T084840
CREATED:20250408T082148Z
LAST-MODIFIED:20250408T082313Z
UID:1045-1747384200-1747398600@hevosjalostusliitot.fi
SUMMARY:Koululaispäivä Turussa Metsämäen raviradalla
DESCRIPTION:\n\n\nVarsinais-Suomen Hevosjalostusliitto ry ja Metsämäen ravirata ovat järjestämässä jälleen pe 16.5.2025 ala-asteikäisille oppilaille hevosaiheista koululaispäivää  Metsämäen raviradalla. Päivä on järjestetty seitsemän kertaa aiemmin vuosina 2017 -2024\, ja koululaispäivissä on vieraillut 100-750 oppilasta kerrallaan eri luokilta ja eri kouluista.  \n\n\n\nPäivän aikana lapset opettajineen pääsevät tutustumaan opastetusti ponien ja hevosten elämään liittyviin asioihin: ohjelmassa on mm. tallikierroksia\, rapsutteluponeja\, työhevosajelua\, kengitys- ja valjastusnäytöksiä\, raviradan hoitamiseen tarkoitettujen koneiden esittelyä ja niin edelleen. Ohjelmaa on tarjolla tuolloin 16.5.2025 noin klo 8:30-12:30\, ja pientä joustoa löytyy\, mikäli kulkemiset sitä edellyttävät. Päivän ohjelma on oppilaille ja kouluille kouluille maksuton. \n\n\n\nKoululaispäivää ovat toteuttamassa Varsinais-Suomen Hevosjalostusliiton ja Turun Hippoksen lisäksi Metsämäki Masters ry\, Turun Ravinaiset ry ja Littoisten Lion Club sekä Metsämäen alueen hevosihmiset hevosineen. \n\n\n\n \n\n\n\n\n\n\n\n\n\n\n
URL:https://hevosjalostusliitot.fi/varsinaissuomi/kalenteri/koululaispaiva-turussa-metsamaen-raviradalla/
END:VEVENT
END:VCALENDAR