BEGIN:VCALENDAR
VERSION:2.0
PRODID:-//Varsinais-Suomen hevosjalostusliitto - ECPv5.1.2//NONSGML v1.0//EN
CALSCALE:GREGORIAN
METHOD:PUBLISH
X-WR-CALNAME:Varsinais-Suomen hevosjalostusliitto
X-ORIGINAL-URL:https://hevosjalostusliitot.fi/varsinaissuomi
X-WR-CALDESC:Events for Varsinais-Suomen hevosjalostusliitto
BEGIN:VTIMEZONE
TZID:UTC
BEGIN:STANDARD
TZOFFSETFROM:+0000
TZOFFSETTO:+0000
TZNAME:UTC
DTSTART:20250101T000000
END:STANDARD
END:VTIMEZONE
BEGIN:VEVENT
DTSTART;TZID=UTC:20251124T173000
DTEND;TZID=UTC:20251124T183000
DTSTAMP:20260425T135748
CREATED:20251107T094857Z
LAST-MODIFIED:20251107T094858Z
UID:1166-1764005400-1764009000@hevosjalostusliitot.fi
SUMMARY:Kokouksia Metsämäen raviradalla ma 24.11.2025
DESCRIPTION:\n\n\n \n\n\n\n\n\n\n\n \n\n\n\n\n\n\n\n\n\n\n
URL:https://hevosjalostusliitot.fi/varsinaissuomi/kalenteri/kokouksia-metsamaen-raviradalla-ma-24-11-2025/
END:VEVENT
END:VCALENDAR