BEGIN:VCALENDAR
VERSION:2.0
PRODID:-//Etelä-Savon hevosjalostusliitto - ECPv5.1.2//NONSGML v1.0//EN
CALSCALE:GREGORIAN
METHOD:PUBLISH
X-WR-CALNAME:Etelä-Savon hevosjalostusliitto
X-ORIGINAL-URL:https://hevosjalostusliitot.fi/etelasavo
X-WR-CALDESC:Events for Etelä-Savon hevosjalostusliitto
BEGIN:VTIMEZONE
TZID:UTC
BEGIN:STANDARD
TZOFFSETFROM:+0000
TZOFFSETTO:+0000
TZNAME:UTC
DTSTART:20220101T000000
END:STANDARD
END:VTIMEZONE
BEGIN:VEVENT
DTSTART;TZID=UTC:20220412T170000
DTEND;TZID=UTC:20220412T170000
DTSTAMP:20260422T175231
CREATED:20220211T104822Z
LAST-MODIFIED:20220211T104824Z
UID:430-1649782800-1649782800@hevosjalostusliitot.fi
SUMMARY:C-ajolupakurssi Mikkelissä
DESCRIPTION:\n\n\nEtelä-Savon Hevosjalostusliitto ry järjestää C-ajolupakurssin Mikkelin raviradalla huhti-toukokuussa 2022: https://hevosjalostusliitot.fi/etelasavo/koulutukset-ja-kurssit/ . Ajolupakurssi alkaa 12.4. pääsykokeella.  \n\n\n\nKurssille voi hakea vähintään 16-vuotias vakinaisesti Suomessa asuva henkilö\, joka hallitsee perustaidot hevosen käsittelyssä\, valjastuksessa ja ohjastuksessa. Hakijan täytyy pystyä hallitsemaan oma ohjastettavansa ja ajamaan ryhmässä. Hevosenkäsittelyn perustaidot tarkistetaan pääsykokeessa ennen kurssille hyväksymistä. \n\n\n\nOhjastajalla on oltava turvaliivi ja kypärä. Korttikurssihevoselta vaaditaan voimassa oleva kilpailuvakuutus. Mikäli sitä ei ole ennestään\, tulee siitä lasku maksettavaksi. Hevosen rokotuksien voimassa olosta huolehtimista suositellaan. Hevosen on oltava toimiva ajaa ja riittävässä kunnossa jaksaakseen volttiharjoitukset\, ravikilpailuihin yli-ikäiselläkin voi osallistua kurssille. \n\n\n\nKorttikurssin luennot ja käytännön harjoitukset järjestetään arki-iltoina ja lauantaipäivinä (1 – 3 krt/vk). Kurssipäivät\, tarkempi aikataulu ja materiaalit jaetaan korttikurssille ilmoittautuneille ennen kurssin aloitusta. \n\n\n\nVastuuvalmentajakoulutus sisältyy korttikurssiin\, mutta sen voi käydä myös erikseen. Silloin koulutuksen hinta on 60 €\, jonka lisäksi lisenssi lunastetaan Hippokselta. \n\n\n\nAjolupakurssi toteutetaan\, mikäli kurssille hyväksytään vaadittava määrä osallistujia. Kurssin toteutuksessa noudatetaan alueellisia suosituksia ja rajoituksia. Ajolupakurssin järjestää Etelä-Savon Hevosjalostusliitto/ Janina Aronen ja sen kouluttajina toimivat Marita Lahtinen ja Pekka Vilpponen. Lisätietoa koulutuksista antaa Janina Aronen 044 791 0600 tai janina.aronen@mikkelinravirata.fi. \n\n\n\nTervetuloa kurssille! \n\n\n\n\n\n\n\n\n\n\n
URL:https://hevosjalostusliitot.fi/etelasavo/kalenteri/c-ajolupakurssi-mikkelissa/
END:VEVENT
END:VCALENDAR