BEGIN:VCALENDAR
VERSION:2.0
PRODID:-//Etelä-Savon hevosjalostusliitto - ECPv5.1.2//NONSGML v1.0//EN
CALSCALE:GREGORIAN
METHOD:PUBLISH
X-WR-CALNAME:Etelä-Savon hevosjalostusliitto
X-ORIGINAL-URL:https://hevosjalostusliitot.fi/etelasavo
X-WR-CALDESC:Events for Etelä-Savon hevosjalostusliitto
BEGIN:VTIMEZONE
TZID:UTC
BEGIN:STANDARD
TZOFFSETFROM:+0000
TZOFFSETTO:+0000
TZNAME:UTC
DTSTART:20260101T000000
END:STANDARD
END:VTIMEZONE
BEGIN:VEVENT
DTSTART;TZID=UTC:20260429T173000
DTEND;TZID=UTC:20260429T200000
DTSTAMP:20260424T001416
CREATED:20260323T144915Z
LAST-MODIFIED:20260410T131249Z
UID:803-1777483800-1777492800@hevosjalostusliitot.fi
SUMMARY:Hevosjalostusliiton vuosikokous
DESCRIPTION:\n\n\nEtelä-Savon Hevosjalostusliitto ry:n VUOSIKOKOUS pidetään keskiviikkona 29.4.2026 klo 18:00 Mikkelin raviradan ravintolakatsomossa\, kahvitarjoilu alkaen klo 17:30. \n\n\n\nKokouksessa käsitellään sääntömääräiset asiat ja suoritetaan palkitsemiset. Tervetuloa vuosikokoukseen! \n\n\n\n\n\n\n\n\n\n\n
URL:https://hevosjalostusliitot.fi/etelasavo/kalenteri/hevosjalostusliiton-vuosikokous-2/
END:VEVENT
END:VCALENDAR